BEGIN:VCALENDAR
VERSION:2.0
PRODID:-//Theaterzirkus Dresden | Tom Quaas - ECPv6.15.20//NONSGML v1.0//EN
CALSCALE:GREGORIAN
METHOD:PUBLISH
X-WR-CALNAME:Theaterzirkus Dresden | Tom Quaas
X-ORIGINAL-URL:http://www.theaterzirkus-dresden.de
X-WR-CALDESC:Veranstaltungen für Theaterzirkus Dresden | Tom Quaas
REFRESH-INTERVAL;VALUE=DURATION:PT1H
X-Robots-Tag:noindex
X-PUBLISHED-TTL:PT1H
BEGIN:VTIMEZONE
TZID:Europe/Berlin
BEGIN:DAYLIGHT
TZOFFSETFROM:+0100
TZOFFSETTO:+0200
TZNAME:CEST
DTSTART:20250330T010000
END:DAYLIGHT
BEGIN:STANDARD
TZOFFSETFROM:+0200
TZOFFSETTO:+0100
TZNAME:CET
DTSTART:20251026T010000
END:STANDARD
BEGIN:DAYLIGHT
TZOFFSETFROM:+0100
TZOFFSETTO:+0200
TZNAME:CEST
DTSTART:20260329T010000
END:DAYLIGHT
BEGIN:STANDARD
TZOFFSETFROM:+0200
TZOFFSETTO:+0100
TZNAME:CET
DTSTART:20261025T010000
END:STANDARD
BEGIN:DAYLIGHT
TZOFFSETFROM:+0100
TZOFFSETTO:+0200
TZNAME:CEST
DTSTART:20270328T010000
END:DAYLIGHT
BEGIN:STANDARD
TZOFFSETFROM:+0200
TZOFFSETTO:+0100
TZNAME:CET
DTSTART:20271031T010000
END:STANDARD
END:VTIMEZONE
BEGIN:VEVENT
DTSTART;TZID=Europe/Berlin:20260421T193000
DTEND;TZID=Europe/Berlin:20260421T213000
DTSTAMP:20260421T014428
CREATED:20230614T082404Z
LAST-MODIFIED:20260326T113524Z
UID:2847-1776799800-1776807000@www.theaterzirkus-dresden.de
SUMMARY:Unter dem Milchwald
DESCRIPTION:Der walisischer Schriftsteller Dylan Marlais Thomas (1914 – 1953) schrieb u.A. Gedichte\, Drehbücher\, autobiographische Erzählungen und ein Theaterstück: „Under Milk Wood“. Es ist sein Hauptwerk\, das als Hörspiel 1954 postum mit dem Prix Italia ausgezeichnet wurde.\nDas berühmteste Hörbuch der Rundfunkgeschichte ist angefüllt mit stimmlichen Experimenten\, sinnlichen Metaphern und Geräuschen eines Tages im walisischen Fischerdorf Llarregyb.\nIm Mittelpunkt steht eine Vielzahl von Charakteren\, deren Hoffnungen und Träume sich dem Publikum in einer schnellen Abfolge heiterer und lyrischer Dialoge entfalten. Da ist zum Beispiel Captain Cat\, ein blinder ehemaliger Seekapitän\, der von seinen toten Seekameraden träumt. Die Schneiderin Myfanwy Price träumt davon\, den Tuchhändler Mog Edwards zu heiraten\, der ihre Gefühle erwidert\, sich ihr aber nur in Briefen nähern darf. Die Pensionswirtin Mrs. Ogmore-Pritchard ist eine mehrfache Witwe\, die von ihren verstorbenen Männern träumt und sich weigert\, Gäste aufzunehmen\, weil die Lebenden das Haus schmutzig machen könnten…\nTom Quaas liest und spielt die über 30 Figuren an diesem Abend selbst und wird von Anna Zepnick musikalisch begleitet. \n„30 Arten von Liebe an einem Abend“ (Lausitzer Rundschau) \n„Wenn dieser Ausnahmeschauspieler [Tom Quaas] auf ein anderes Phänomen trifft\, ein Sprachgenie voller Wortwitz\, wie den walisischen Schriftsteller Dylan Thomas (1914 bis 1953)\, dann entsteht ein neuer Kosmos aus reiner Fantasie.“ (Märkische Allgemeine) \n„Die Intensität des Spiels ist wie ein Sog\, überbordend mengen sich Komik und Bitterkeit und ungeachtet dessen\, dass einer Premiere die Routine fehlen muss\, ist hier etwas großartig Poetisches gelungen\, dem man viele Zuschauer wünscht.“ (Dresdner Neueste Nachrichten) \nDarsteller: Tom Quaas und Anna Zepnick \nSpieldauer: 1:20 h (ohne Pause)\, 1:45h (mit Pause)
URL:http://www.theaterzirkus-dresden.de/dates/clown-meets-cello-5/
LOCATION:Theaterruine St. Pauli\, Königsbrücker Platz\, Dresden\, 01097
ATTACH;FMTTYPE=image/jpeg:http://www.theaterzirkus-dresden.de/wp-content/uploads/2023/06/Milchwald-050925-e1774524917394.jpg
END:VEVENT
END:VCALENDAR